Workbook

Sheet PROFIL
D1: PROGRAMME ODYSSEE
C3: PROFIL :
XEZ7: Sexe | XFA7: =IF(D8="FEMME", 4, 2) -> 2
C8: Sexe : | D8: HOMME | F8: Âge : | G8: 26 | H8: ans | XEZ8: Age | XFA8: =IF(G8<25, 3, IF(G8>39, 1, 2)) -> 2
XEZ9: Poids | XFA9: =IF(D8="HOMME",IF(G10<67, 3, IF(G10>92, 1, 2)),IF(G10<58, 3, IF(G10>73, 1, 2))) -> 2 | XFB9: terre ajusté
C10: Taille : | D10: 170 | E10: cm | F10: Poids : | G10: 77.7 | H10: kg | XEZ10: Total | XFA10: =XFA7+XFA8+XFA9 -> 6 | XFB10: =IF($XFC$40="GOOD",$XFA$10,$XFA$10-1.5) -> 6
D12: Arrondir les poids à : | F12: 2.5 | G12: kg près
XFA13: t pas censé voir ca bg
B15: SQUAT | D15: 1RM ACTUELLE : | F15: 232.5 | G15: KG | XFB15: =AVERAGE((('[1]BLOCK 1'!$G$7*10*0.0333)+'[1]BLOCK 1'!$G$7),(('[1]BLOCK 1'!$G$19*9*0.0333)+'[1]BLOCK 1'!$G$19),(('[1]BLOCK 1'!$G$31*8*0.0333)+'[1]BLOCK 1'!$G$31),(('[1]BLOCK 1'!$G$43*7.5*0.0333)+'[1]BLOCK 1'!$G$43)) -> 0 | XFC15: =AVERAGE((('[1]BLOCK 1'!$S$7*7*0.0333)+'[1]BLOCK 1'!$S$7),(('[1]BLOCK 1'!$S$19*7*0.0333)+'[1]BLOCK 1'!$S$19),(('[1]BLOCK 1'!$S$31*6*0.0333)+'[1]BLOCK 1'!$S$31),(('[1]BLOCK 1'!$S$43*6*0.0333)+'[1]BLOCK 1'!$S$43)) -> 0 | XFD15: =AVERAGE((('[1]BLOCK 1'!$Y$31*5*0.0333)+'[1]BLOCK 1'!$Y$31),(('[1]BLOCK 1'!$Y$43*4*0.0333)+'[1]BLOCK 1'!$Y$43)) -> 0
XFB16: =AVERAGE($XFB$15,$XFC$15) -> 0
XFC18: recapblock1S
B19: Choix d'assistance : | F19: Squat Barre Haute | XEZ19: Tech S | XFA19: =IF(F19="Genoux qui rentrent","G",IF(F19="Bassin qui remonte en premier","GM",IF(F19="Haut du dos qui s'arrondit","HD","R"))) -> R | XFC19: =IF($XFB$16>$XFD$15,"BAD","GOOD") -> GOOD
B24: DC | D24: 1RM ACTUELLE : | F24: 150 | G24: KG
XFC27: recapblock1B
B28: Choix d'assistance : | F28: DC Serré | XEZ28: Tech B | XFA28: =IF(F28="Pause instable","Pause",IF(F28="Mauvaise trajectoire","Traj","R")) -> R | XFC28: =IF((('[1]BLOCK 1'!$S$33)+('[1]BLOCK 1'!$S$45))>(('[1]BLOCK 1'!$Y$35)+ ('[1]BLOCK 1'!$Y$47)),"BAD","GOOD") -> GOOD
B31: Point difficile du mouvement : | F31: Tension dans pause | XEZ31: Dur B | XFA31: =IF(F31="Tout en bas","Bas",IF(F31="Milieu de remontée","Milieu","Fin")) -> Fin
A36: Type de | B36: SDT SUMO | D36: 1RM ACTUELLE : | F36: 305 | G36: KG
A37: SDT : | XFB37: =AVERAGE((('[1]BLOCK 1'!$M$7*9*0.0333)+'[1]BLOCK 1'!$M$7),(('[1]BLOCK 1'!$M$19*8*0.0333)+'[1]BLOCK 1'!$M$19),(('[1]BLOCK 1'!$M$31*7*0.0333)+'[1]BLOCK 1'!$M$31),(('[1]BLOCK 1'!$M$43*6*0.0333)+'[1]BLOCK 1'!$M$43)) -> 0 | XFD37: =AVERAGE((('[1]BLOCK 1'!$Y$9*5.5*0.0333)+'[1]BLOCK 1'!$Y$9),(('[1]BLOCK 1'!$Y$21*5*0.0333)+'[1]BLOCK 1'!$Y$21),(('[1]BLOCK 1'!$Y$33*4.5*0.0333)+'[1]BLOCK 1'!$Y$33),(('[1]BLOCK 1'!$Y$45*4.5*0.0333)+'[1]BLOCK 1'!$Y$45)) -> 0
XFB38: =IF($B$36="SDT SUMO",$XFB$37*0.95,$XFB$37) -> 0
XFC39: recapblock1D
B40: Choix d'assistance : | F40: SDT Deficit | XEZ40: Tech D | XFA40: =IF(F40="Bas du dos rond","Dos",IF(F40="Bassin qui remonte en premier","Bassin",IF(F40="Genoux qui rentrent","Genoux","R"))) -> R | XFC40: =IF($XFB$38>$XFD$37,"BAD","GOOD") -> GOOD
XFB43: =$XFB$10*#REF! -> #REF!
C45: www.atlascoaching.net

Sheet PROGRAMME
C2: SQUAT BENCH DEADLIFT VOLUME | H2: Ssquat Bench TECHNIQUE | M2: SQUAT BENCH LOURD | R2: DEADLIFT LOURD
C4: SEANCE 1 | G4: REPOS | H4: SEANCE 2 | L4: REPOS | M4: SEANCE 3 | R4: SEANCE 4 | V4: REPOS
C6: EXERCICE | D6: SÉRIES | E6: REPS | F6: CHARGE | H6: EXERCICE | I6: SÉRIES | J6: REPS | K6: CHARGE | M6: EXERCICE | N6: SÉRIES | O6: REPS | P6: CHARGE | R6: EXERCICE | S6: SÉRIES | T6: REPS | U6: CHARGE
C7: Squat | D7: 1 | E7: 8 | F7: =MROUND(PROFIL!$F$15*0.725,(PROFIL!$F$12))&"kg" -> 167,5kg | H7: =PROFIL!$F$19 -> Squat Barre Haute | I7: =IF(PROFIL!$D$8="Femme","5","4") -> 4 | J7: 6 | K7: =MROUND(PROFIL!$F$15*0.625,(PROFIL!$F$12))&"kg" -> 145kg | M7: Squat | N7: 1 | O7: 4 | P7: =MROUND(PROFIL!$F$15*0.825,(PROFIL!$F$12))&"kg" -> 192,5kg | R7: SDT | S7: 1 | T7: 4 | U7: =MROUND(PROFIL!$F$36*0.825,(PROFIL!$F$12))&"kg" -> 252,5kg
D8: 3 | E8: 8 | F8: =MROUND((PROFIL!$F$15*0.725)*0.9,(PROFIL!$F$12))&"kg" -> 152,5kg | H8: =PROFIL!$F$28 -> DC Serré | I8: 1 | J8: 10 | K8: RPE6 | N8: 3 | O8: 5 | P8: =MROUND((PROFIL!$F$15*0.825)*0.875,(PROFIL!$F$12))&"kg" -> 167,5kg | S8: =IF(PROFIL!$G$10>84,2,3) -> 3 | T8: 5 | U8: =MROUND((PROFIL!$F$36*0.825)*0.85,(PROFIL!$F$12))&"kg" -> 215kg
C9: DC | D9: 1 | E9: 8 | F9: =MROUND(PROFIL!$F$24*0.725,(PROFIL!$F$12))&"kg" -> 110kg | I9: =IF(PROFIL!G10>84,2,"3") -> 3 | J9: =IF(PROFIL!D8="Femme","12","10") -> 10 | K9: -0.1 | M9: DC | N9: 1 | O9: 4 | P9: =MROUND(PROFIL!$F$24*0.825,(PROFIL!$F$12))&"kg" -> 125kg | R9: =IF(PROFIL!$F$31="Stabilité","Tempo 4:2:0 Bench",IF(PROFIL!$F$31="Trajectoire","Triple Pause Bench","T-Shirt Pause Bench")) -> T-Shirt Pause Bench | S9: 1 | T9: 2 | U9: =MROUND(PROFIL!$F$24*0.8,(PROFIL!$F$12))&"kg" -> 120kg
A10: Semaine 1 | D10: =IF(PROFIL!D8="Femme","4-5","4") -> 4 | E10: 8 | F10: =MROUND((PROFIL!$F$24*0.725)*0.9,(PROFIL!$F$12))&"kg" -> 97,5kg | H10: Tirage Horizontal | I10: =IF(PROFIL!D8="Femme","5","4") -> 4 | J10: 12 | K10: RPE8 | N10: =IF(PROFIL!G10>94,3,4) -> 4 | O10: 5 | P10: =MROUND((PROFIL!$F$24*0.825)*0.9,(PROFIL!$F$12))&"kg" -> 112,5kg | R10: Tshirt Pause Bench | S10: 3 | T10: =IF(PROFIL!$D$8="Femme",7,6) -> 6 | U10: =MROUND(PROFIL!$F$24*0.68,(PROFIL!$F$12))&"kg" -> 102,5kg
C11: SDT | D11: 1 | E11: 8 | F11: =MROUND(PROFIL!$F$36*0.725,(PROFIL!$F$12))&"kg" -> 220kg | H11: Superset Bras | I11: 4 | J11: 10-20 | M11: OHP | N11: =IF(PROFIL!$D$8="Femme","4","3") -> 3 | O11: 10-12 | P11: RPE6 | R11: Tirage Horizontal uni. | S11: 4 | T11: 10 | U11: RPE6
C12: =PROFIL!$F$40 -> SDT Deficit | D12: 2-3 | E12: 4 | F12: 70%RM | H12: Facepull | I12: 4 | J12: 10-20 | M12: Crunch Poulie Haute | N12: 3 | O12: 10-20 | R12: Tirage Vertical | S12: 4 | T12: 10 | U12: RPE6
C15: SEANCE 5 | G15: REPOS | H15: SEANCE 6 | L15: REPOS | M15: SEANCE 7 | R15: SEANCE 8 | V15: REPOS
C17: EXERCICE | D17: SÉRIES | E17: REPS | F17: CHARGE | H17: EXERCICE | I17: SÉRIES | J17: REPS | K17: CHARGE | M17: EXERCICE | N17: SÉRIES | O17: REPS | P17: CHARGE | R17: EXERCICE | S17: SÉRIES | T17: REPS | U17: CHARGE
C18: Squat | D18: 1 | E18: 7 | F18: =MROUND(PROFIL!$F$15*0.75,(PROFIL!$F$12))&"kg" -> 175kg | H18: =PROFIL!$F$19 -> Squat Barre Haute | I18: =IF(PROFIL!$D$8="Femme","4-5","3-4") -> 3-4 | J18: 6 | K18: =MROUND(PROFIL!$F$15*0.65,(PROFIL!$F$12))&"kg" -> 150kg | M18: Squat | N18: 1 | O18: 3 | P18: =MROUND(PROFIL!$F$15*0.86,(PROFIL!$F$12))&"kg" -> 200kg | R18: SDT | S18: 1 | T18: 3 | U18: =MROUND(PROFIL!$F$36*0.85,(PROFIL!$F$12))&"kg" -> 260kg
D19: 3 | E19: 7 | F19: =MROUND((PROFIL!$F$15*0.75)*0.9,(PROFIL!$F$12))&"kg" -> 157,5kg | H19: =PROFIL!$F$28 -> DC Serré | I19: 1 | J19: 9 | K19: RPE6 | N19: 3 | O19: 4 | P19: =MROUND((PROFIL!$F$15*0.86)*0.875,(PROFIL!$F$12))&"kg" -> 175kg | S19: =IF(PROFIL!$G$10>84,2,3) -> 3 | T19: 4 | U19: =MROUND((PROFIL!$F$36*0.85)*0.85,(PROFIL!$F$12))&"kg" -> 220kg
C20: DC | D20: 1 | E20: 7 | F20: =MROUND(PROFIL!$F$24*0.75,(PROFIL!$F$12))&"kg" -> 112,5kg | I20: =IF(PROFIL!G10>84,2,"2-3") -> 2-3 | J20: =IF(PROFIL!D8="Femme","11","9") -> 9 | K20: -0.1 | M20: DC | N20: 1 | O20: 3 | P20: =MROUND(PROFIL!$F$24*0.86,(PROFIL!$F$12))&"kg" -> 130kg | R20: =IF(PROFIL!$F$31="Stabilité","Tempo 4:2:0 Bench",IF(PROFIL!$F$31="Trajectoire","Triple Pause Bench","T-Shirt Pause Bench")) -> T-Shirt Pause Bench | S20: 1 | T20: 2 | U20: =MROUND(PROFIL!$F$24*0.82,(PROFIL!$F$12))&"kg" -> 122,5kg
A21: Semaine 2 | D21: =IF(PROFIL!D8="Femme","4-5","4") -> 4 | E21: 7 | F21: =MROUND((PROFIL!$F$24*0.75)*0.9,(PROFIL!$F$12))&"kg" -> 102,5kg | H21: Tirage Horizontal | I21: =IF(PROFIL!D19="Femme","5","4") -> 4 | J21: 12 | K21: RPE8 | N21: =IF(PROFIL!G10>94,3,4) -> 4 | O21: 4 | P21: =MROUND((PROFIL!$F$24*0.86)*0.9,(PROFIL!$F$12))&"kg" -> 115kg | R21: Tshirt Pause Bench | S21: 3 | T21: =IF(PROFIL!$D$8="Femme",7,6) -> 6 | U21: =MROUND(PROFIL!$F$24*0.7,(PROFIL!$F$12))&"kg" -> 105kg
C22: SDT | D22: 1 | E22: 7 | F22: =MROUND(PROFIL!$F$36*0.75,(PROFIL!$F$12))&"kg" -> 230kg | H22: Superset Bras | I22: 4 | J22: 10-20 | M22: OHP | N22: =IF(PROFIL!$D$8="Femme","4","3") -> 3 | O22: 10-12 | P22: RPE7 | R22: Tirage Horizontal uni. | S22: 4 | T22: 10 | U22: RPE7
C23: =PROFIL!$F$40 -> SDT Deficit | D23: 2-3 | E23: 3 | F23: 72,5%RM | H23: Facepull | I23: 4 | J23: 10-20 | M23: Crunch Poulie Haute | N23: 3 | O23: 10-20 | R23: Tirage Vertical | S23: 4 | T23: 10 | U23: RPE7
C26: SEANCE 9 | G26: REPOS | H26: SEANCE 10 | L26: REPOS | M26: SEANCE 11 | R26: SEANCE 12 | V26: REPOS
C28: EXERCICE | D28: SÉRIES | E28: REPS | F28: CHARGE | H28: EXERCICE | I28: SÉRIES | J28: REPS | K28: CHARGE | M28: EXERCICE | N28: SÉRIES | O28: REPS | P28: CHARGE | R28: EXERCICE | S28: SÉRIES | T28: REPS | U28: CHARGE
C29: Squat | D29: 1 | E29: 6 | F29: =MROUND(PROFIL!$F$15*0.775,(PROFIL!$F$12))&"kg" -> 180kg | H29: =PROFIL!$F$19 -> Squat Barre Haute | I29: =IF(PROFIL!$D$8="Femme","4","3") -> 3 | J29: 5 | K29: =MROUND(PROFIL!$F$15*0.675,(PROFIL!$F$12))&"kg" -> 157,5kg | M29: Squat | N29: 1 | O29: 2 | P29: =MROUND(PROFIL!$F$15*0.89,(PROFIL!$F$12))&"kg" -> 207,5kg | R29: SDT | S29: 1 | T29: 2 | U29: =MROUND(PROFIL!$F$36*0.875,(PROFIL!$F$12))&"kg" -> 267,5kg
D30: 3 | E30: 6 | F30: =MROUND((PROFIL!$F$15*0.775)*0.9,(PROFIL!$F$12))&"kg" -> 162,5kg | H30: =PROFIL!$F$28 -> DC Serré | I30: 1 | J30: 8 | K30: RPE6 | N30: 3 | O30: 3 | P30: =MROUND((PROFIL!$F$15*0.89)*0.875,(PROFIL!$F$12))&"kg" -> 180kg | S30: =IF(PROFIL!$G$10>84,2,3) -> 3 | T30: 3 | U30: =MROUND((PROFIL!$F$36*0.875)*0.85,(PROFIL!$F$12))&"kg" -> 227,5kg
C31: DC | D31: 1 | E31: 6 | F31: =MROUND(PROFIL!$F$24*0.775,(PROFIL!$F$12))&"kg" -> 117,5kg | I31: =IF(PROFIL!G10>84,2,"2-3") -> 2-3 | J31: =IF(PROFIL!D8="Femme","10","8") -> 8 | K31: -0.1 | M31: DC | N31: 1 | O31: 2 | P31: =MROUND(PROFIL!$F$24*0.89,(PROFIL!$F$12))&"kg" -> 132,5kg | R31: =IF(PROFIL!$F$31="Stabilité","Tempo 4:2:0 Bench",IF(PROFIL!$F$31="Trajectoire","Triple Pause Bench","T-Shirt Pause Bench")) -> T-Shirt Pause Bench | S31: 1 | T31: 1 | U31: =MROUND(PROFIL!$F$24*0.84,(PROFIL!$F$12))&"kg" -> 125kg
A32: Semaine 3 | D32: =IF(PROFIL!D8="Femme","4-5","4") -> 4 | E32: 6 | F32: =MROUND((PROFIL!$F$24*0.775)*0.9,(PROFIL!$F$12))&"kg" -> 105kg | H32: Tirage Horizontal | I32: =IF(PROFIL!D30="Femme","5","4") -> 4 | J32: 12 | K32: RPE8 | N32: =IF(PROFIL!G10>94,3,4) -> 4 | O32: 3 | P32: =MROUND((PROFIL!$F$24*0.89)*0.9,(PROFIL!$F$12))&"kg" -> 120kg | R32: Tshirt Pause Bench | S32: 3 | T32: =IF(PROFIL!$D$8="Femme",6,5) -> 5 | U32: =MROUND(PROFIL!$F$24*0.72,(PROFIL!$F$12))&"kg" -> 107,5kg
C33: SDT | D33: 1 | E33: 6 | F33: =MROUND(PROFIL!$F$36*0.775,(PROFIL!$F$12))&"kg" -> 237,5kg | H33: Superset Bras | I33: 4 | J33: 10-20 | M33: OHP | N33: =IF(PROFIL!$D$8="Femme","4","3") -> 3 | O33: 10-12 | P33: RPE8 | R33: Tirage Horizontal uni. | S33: 4 | T33: 10 | U33: RPE7
C34: =PROFIL!$F$40 -> SDT Deficit | D34: 2-3 | E34: 3 | F34: 75%RM | H34: Facepull | I34: 3 | J34: 10-20 | M34: Crunch Poulie Haute | N34: 3 | O34: 10-20 | R34: Tirage Vertical | S34: 4 | T34: 10 | U34: RPE7
C37: SEANCE 13 | G37: REPOS | H37: SEANCE 14 | L37: REPOS | M37: SEANCE 15 | R37: SEANCE 16 | V37: REPOS
C39: EXERCICE | D39: SÉRIES | E39: REPS | F39: CHARGE | H39: EXERCICE | I39: SÉRIES | J39: REPS | K39: CHARGE | M39: EXERCICE | N39: SÉRIES | O39: REPS | P39: CHARGE | R39: EXERCICE | S39: SÉRIES | T39: REPS | U39: CHARGE
C40: Squat | D40: 1 | E40: 5 | F40: =MROUND(PROFIL!$F$15*0.8,(PROFIL!$F$12))&"kg" -> 185kg | H40: =PROFIL!$F$19 -> Squat Barre Haute | I40: =IF(PROFIL!$D$8="Femme","3-4","2-3") -> 2-3 | J40: 4 | K40: =MROUND(PROFIL!$F$15*0.7,(PROFIL!$F$12))&"kg" -> 162,5kg | M40: Squat | N40: 1 | O40: 1 | P40: =MROUND(PROFIL!$F$15*0.92,(PROFIL!$F$12))&"kg" -> 215kg | R40: SDT | S40: 1 | T40: 1 | U40: =MROUND(PROFIL!$F$36*0.9,(PROFIL!$F$12))&"kg" -> 275kg
D41: 3 | E41: 5 | F41: =MROUND((PROFIL!$F$15*0.8)*0.9,(PROFIL!$F$12))&"kg" -> 167,5kg | H41: =PROFIL!$F$28 -> DC Serré | I41: 1 | J41: 7 | K41: RPE6 | N41: 3 | O41: 2 | P41: =MROUND((PROFIL!$F$15*0.92)*0.875,(PROFIL!$F$12))&"kg" -> 187,5kg | S41: =IF(PROFIL!$G$10>84,2,3) -> 3 | T41: 2 | U41: =MROUND((PROFIL!$F$36*0.9)*0.85,(PROFIL!$F$12))&"kg" -> 232,5kg
C42: DC | D42: 1 | E42: 5 | F42: =MROUND(PROFIL!$F$24*0.8,(PROFIL!$F$12))&"kg" -> 120kg | I42: =IF(PROFIL!G10>84,1,2) -> 2 | J42: =IF(PROFIL!D8="Femme","9","7") -> 7 | K42: -0.1 | M42: DC | N42: 1 | O42: 1 | P42: =MROUND(PROFIL!$F$24*0.92,(PROFIL!$F$12))&"kg" -> 137,5kg | R42: =IF(PROFIL!$F$31="Stabilité","Tempo 4:2:0 Bench",IF(PROFIL!$F$31="Trajectoire","Triple Pause Bench","T-Shirt Pause Bench")) -> T-Shirt Pause Bench | S42: 1 | T42: 1 | U42: =MROUND(PROFIL!$F$24*0.86,(PROFIL!$F$12))&"kg" -> 130kg
A43: Semaine 4 | D43: =IF(PROFIL!D8="Femme","4-5","4") -> 4 | E43: 5 | F43: =MROUND((PROFIL!$F$24*0.8)*0.9,(PROFIL!$F$12))&"kg" -> 107,5kg | H43: Tirage Horizontal | I43: =IF(PROFIL!D41="Femme","5","4") -> 4 | J43: 12 | K43: RPE8 | N43: =IF(PROFIL!G10>94,3,4) -> 4 | O43: 2 | P43: =MROUND((PROFIL!$F$24*0.92)*0.9,(PROFIL!$F$12))&"kg" -> 125kg | R43: Tshirt Pause Bench | S43: 3 | T43: =IF(PROFIL!$D$8="Femme",6,5) -> 5 | U43: =MROUND(PROFIL!$F$24*0.74,(PROFIL!$F$12))&"kg" -> 110kg
C44: SDT | D44: 1 | E44: 5 | F44: =MROUND(PROFIL!$F$36*0.8,(PROFIL!$F$12))&"kg" -> 245kg | H44: Superset Bras | I44: 3 | J44: 10-20 | M44: OHP | N44: =IF(PROFIL!$D$8="Femme","4","3") -> 3 | O44: 10-12 | P44: RPE9 | R44: Tirage Horizontal uni. | S44: 4 | T44: 10 | U44: RPE8
C45: =PROFIL!$F$40 -> SDT Deficit | D45: 2-3 | E45: 2 | F45: 77,5%RM | H45: Facepull | I45: 3 | J45: 10-20 | M45: Crunch Poulie Haute | N45: 3 | O45: 10-20 | R45: Tirage Vertical | S45: 4 | T45: 10 | U45: RPE8
C48: SEANCE 17 | G48: REPOS | H48: SEANCE 18 | L48: REPOS | M48: SEANCE 19 | R48: SEANCE 20 | V48: REPOS
C50: EXERCICE | D50: SÉRIES | E50: REPS | F50: CHARGE | H50: EXERCICE | I50: SÉRIES | J50: REPS | K50: CHARGE | M50: EXERCICE | N50: SÉRIES | O50: REPS | P50: CHARGE | R50: EXERCICE | S50: SÉRIES | T50: REPS | U50: CHARGE
C51: Squat | D51: 1 | E51: 4 | F51: =MROUND(PROFIL!$F$15*0.825,(PROFIL!$F$12))&"kg" -> 192,5kg | H51: =PROFIL!$F$19 -> Squat Barre Haute | I51: =IF(PROFIL!$D$8="Femme",3,2) -> 2 | J51: 3 | K51: =MROUND(PROFIL!$F$15*0.725,(PROFIL!$F$12))&"kg" -> 167,5kg | M51: R E P O S | R51: Squat | S51: 1 | T51: 2-6 | U51: =MROUND(PROFIL!$F$15*0.93,(PROFIL!$F$12))&"kg" -> 215kg
D52: 3 | E52: 4 | F52: =MROUND((PROFIL!$F$15*0.825)*0.9,(PROFIL!$F$12))&"kg" -> 172,5kg | H52: =PROFIL!$F$28 -> DC Serré | I52: 1 | J52: 6 | K52: RPE6 | S52: OU | T52: TEST | U52: 1RM
C53: DC | D53: 1 | E53: 4 | F53: =MROUND(PROFIL!$F$24*0.825,(PROFIL!$F$12))&"kg" -> 125kg | I53: =IF(PROFIL!G10>84,1,"1-2") -> 1-2 | J53: =IF(PROFIL!D8="Femme","8","6") -> 6 | K53: -0.1 | R53: DC | S53: 1 | T53: 2-6 | U53: =MROUND(PROFIL!$F$24*0.93,(PROFIL!$F$12))&"kg" -> 140kg
A54: Semaine 5 | D54: =IF(PROFIL!D8="Femme","4-5","4") -> 4 | E54: 4 | F54: =MROUND((PROFIL!$F$24*0.825)*0.9,(PROFIL!$F$12))&"kg" -> 112,5kg | H54: Tirage Horizontal | I54: =IF(PROFIL!D52="Femme","4","3") -> 3 | J54: 12 | K54: RPE8 | S54: OU | T54: TEST | U54: 1RM
C55: SDT | D55: 1 | E55: 4 | F55: =MROUND(PROFIL!$F$36*0.825,(PROFIL!$F$12))&"kg" -> 252,5kg | H55: Superset Bras | I55: 3 | J55: 10-20 | R55: SDT | S55: 1 | T55: 2-6 | U55: =MROUND(PROFIL!$F$36*0.925,(PROFIL!$F$12))&"kg" -> 282,5kg
C56: =PROFIL!$F$40 -> SDT Deficit | D56: 2 | E56: 2 | F56: 80%RM | H56: Facepull | I56: 3 | J56: 10-20 | S56: OU | T56: TEST | U56: 1RM

Sheet ENSUITE...
H3: Nouvelles 1RM théoriques : | K3: SQUAT | P3: DC | U3: SDT
H4: (si vous avez réalisé l'AMRAP) | K4: Charge | L4: Reps | M4: e1RM | P4: Charge | Q4: Reps | R4: e1RM | U4: Charge | V4: Reps | W4: e1RM
K5: 0 | L5: 0 | M5: =MROUND((K5*L5*0.0333)+K5,PROFIL!$F$12) -> 0 | P5: 0 | Q5: 0 | R5: =MROUND((P5*Q5*0.0333)+P5,PROFIL!$F$12) -> 0 | U5: 0 | V5: 0 | W5: =MROUND((U5*V5*0.0333)+U5,PROFIL!$F$12) -> 0
H9: Option 1 : | K9: Recommencer le programme avec votre nouvelle 1RM. (théorique ou testée)
H12: Option 2 : | K12: Partir sur un nouveau programme ;
K13: par exemple, le PROGRAMME ILIADE,
K14: Ou, pourquoi pas un suivi personnalisé, si ce programme vous a plu et que vous aimeriez aller plus loin.
B18: https://www.atlascoaching.net | H18: Pour conclure, merci d'avoir suivi ce programme. N'hésitez pas à m'envoyer vos retours et résultats :
I21: - par mail : | L21: contact@atlascoaching.net
I23: - par instagram : | M23: @atlas_pwr
